0,634920634920635
0,000000000000000
0,000000000000000
-0,634920634920635
335862,222222222000000
3788216,507936510000000
