0,634920634920635
0,000000000000000
0,000000000000000
-0,635055038103302
336964,444444444000000
3784615,368331920000000
