0,634920634920635
0,000000000000000
0,000000000000000
-0,634920634920635
333046,984126984000000
3781673,015873020000000
