0,42337
0,00000
0,00000
-0,42337
317556,308213378
3840666,38441998
