0,635
0,000000000000000
0,000000000000000
-0,635
356558,636748518000000
3806421,403620200000000
