0,635
0,000000000000000
0,000000000000000
-0,635
356121,718882303000000
3803179,682539680000000
