8,466
0,000000000000000
0,000000000000000
-8,466
314014,561462919
3830059,27180356
