1,27000
0,000000000000000
0,000000000000000
-1,27000
550010,795021590000000
4455511,681056370000000
