1,2698
0,000000000000000
0,000000000000000
-1,2698
557746,031746032000000
4376538,412698410000000
