09.51782481009287E-06
0.000000000000000
0.000000000000000
-09.51782481009471E-06
86.1904706000149
24.2317551744315
