6.39865274826483
0.000000000000000
0.000000000000000
-6.3986527482648
463216.813500668
2955284.13877318
