6.39865274826482
0.000000000000000
0.000000000000000
-6.39865274826368
463216.813500667
2955284.13877317
